View In:
ArcGIS JavaScript
ArcGIS Online Map Viewer
ArcGIS Earth
Service Description: CNPY_mLexingtonKY/LexingtonRaster
Name: CNPY_mLexingtonKY/LexingtonRaster
Description:
Single Fused Map Cache: false
Extent:
XMin: -84.67096118311207
YMin: 37.83406416892632
XMax: -84.27781273636867
YMax: 38.21931806854635
Spatial Reference: 4326
(4326)
Initial Extent:
XMin: -84.67096118311207
YMin: 37.83406416892632
XMax: -84.27781273636867
YMax: 38.21931806854635
Spatial Reference: 4326
(4326)
Full Extent:
XMin: -84.67096118311207
YMin: 37.83406416892632
XMax: -84.27781273636867
YMax: 38.21931806854635
Spatial Reference: 4326
(4326)
Pixel Size X: 0.0015789094246722736
Pixel Size Y: 0.0015789094246722636
Band Count: 1
Pixel Type: F32
RasterFunction Infos: {"rasterFunctionInfos": [{
"help": "",
"name": "None",
"description": ""
}]}
Mensuration Capabilities: Basic
Inspection Capabilities:
Has Histograms: true
Has Colormap: false
Has Multi Dimensions : false
Rendering Rule:
Min Scale: 1155581.108577
Max Scale: 4513.9887049999998
Min LOD: 9
Max LOD: 17
Copyright Text:
Service Data Type: esriImageServiceDataTypeGeneric
Min Values: 540
Max Values: 1060
Mean Values: 936.32777432882324
Standard Deviation Values: 67.530348279847047
Object ID Field:
Fields:
None
Default Mosaic Method: Center
Allowed Mosaic Methods:
SortField:
SortValue: N/A
Mosaic Operator: First
Default Compression Quality: 75
Default Resampling Method: Bilinear
Max Record Count: null
Max Image Height: 4100
Max Image Width: 15000
Max Download Image Count: null
Max Mosaic Image Count: null
Allow Raster Function: true
Allow Copy: true
Allow Analysis: true
Allow Compute TiePoints: false
Supports Statistics: false
Supports Advanced Queries: false
Use StandardizedQueries: false
Raster Type Infos:
Name: Raster Dataset
Description: Supports all ArcGIS Raster Datasets
Help:
Has Raster Attribute Table: false
Edit Fields Info: N/A
Ownership Based AccessControl For Rasters: N/A
Child Resources:
Info
Histograms
Statistics
Key Properties
Legend
Raster Function Infos
Supported Operations:
Export Image
Identify
Measure
Compute Histograms
Compute Statistics Histograms
Get Samples
Compute Class Statistics
Query Boundary
Compute Pixel Location
Compute Angles
Validate
Project