{
 "extent": {
  "ymin": 4571151.7562921522,
  "xmin": -9419139.1311941743,
  "ymax": 4604680.188182639,
  "xmax": -9392413.7459881697,
  "spatialReference": {
   "latestWkid": 3857,
   "wkid": 102100
  }
 },
 "blockWidth": 128,
 "mosaicOperator": "First",
 "serviceSourceType": "esriImageServiceSourceTypeDataset",
 "hasMultidimensions": false,
 "maxImageWidth": 15000,
 "tileInfo": {
  "lods": [
   {
    "level": 0,
    "scale": 591657527.591555,
    "resolution": 156543.03392799999
   },
   {
    "level": 1,
    "scale": 295828763.79577702,
    "resolution": 78271.516963999893
   },
   {
    "level": 2,
    "scale": 147914381.89788899,
    "resolution": 39135.758482000099
   },
   {
    "level": 3,
    "scale": 73957190.948944002,
    "resolution": 19567.879240999901
   },
   {
    "level": 4,
    "scale": 36978595.474472001,
    "resolution": 9783.9396204999593
   },
   {
    "level": 5,
    "scale": 18489297.737236001,
    "resolution": 4891.9698102499797
   },
   {
    "level": 6,
    "scale": 9244648.8686180003,
    "resolution": 2445.9849051249898
   },
   {
    "level": 7,
    "scale": 4622324.4343090001,
    "resolution": 1222.9924525624899
   },
   {
    "level": 8,
    "scale": 2311162.2171550002,
    "resolution": 611.49622628138002
   },
   {
    "level": 9,
    "scale": 1155581.108577,
    "resolution": 305.74811314055802
   },
   {
    "level": 10,
    "scale": 577790.55428899999,
    "resolution": 152.874056570411
   },
   {
    "level": 11,
    "scale": 288895.27714399999,
    "resolution": 76.437028285073197
   },
   {
    "level": 12,
    "scale": 144447.638572,
    "resolution": 38.218514142536598
   },
   {
    "level": 13,
    "scale": 72223.819285999998,
    "resolution": 19.109257071268299
   },
   {
    "level": 14,
    "scale": 36111.909642999999,
    "resolution": 9.5546285356341496
   },
   {
    "level": 15,
    "scale": 18055.954822,
    "resolution": 4.7773142679493699
   },
   {
    "level": 16,
    "scale": 9027.9774109999998,
    "resolution": 2.38865713397468
   },
   {
    "level": 17,
    "scale": 4513.9887049999998,
    "resolution": 1.1943285668550501
   },
   {
    "level": 18,
    "scale": 2256.994353,
    "resolution": 0.59716428355981699
   },
   {
    "level": 19,
    "scale": 1128.4971760000001,
    "resolution": 0.29858214164761698
   },
   {
    "level": 20,
    "scale": 564.24858800000004,
    "resolution": 0.14929107082380833
   },
   {
    "level": 21,
    "scale": 282.12429400000002,
    "resolution": 0.074645535411904163
   },
   {
    "level": 22,
    "scale": 141.06214700000001,
    "resolution": 0.037322767705952081
   },
   {
    "level": 23,
    "scale": 70.531073500000005,
    "resolution": 0.018661383852976041
   }
  ],
  "lercError": 0.10000000000000001,
  "origin": {
   "x": -20037508.342787001,
   "y": 20037508.342787001
  },
  "format": "LERC",
  "compressionQuality": 0,
  "rows": 256,
  "dpi": 96,
  "spatialReference": {
   "latestWkid": 3857,
   "wkid": 102100
  },
  "cols": 256
 },
 "meanValues": [
  962.14636045465431
 ],
 "hasColormap": false,
 "compressionType": "LZ77",
 "defaultCompressionQuality": 75,
 "maxValues": [
  1070
 ],
 "hasHistograms": true,
 "datasetFormat": "SDR",
 "maxImageHeight": 4100,
 "sortField": "",
 "bandNames": [
  "Band_1"
 ],
 "spatialReference": {
  "latestWkid": 3857,
  "wkid": 102100
 },
 "fullExtent": {
  "ymin": 4571151.7562921522,
  "xmin": -9419139.1311941743,
  "ymax": 4604680.188182639,
  "xmax": -9392413.7459881697,
  "spatialReference": {
   "latestWkid": 3857,
   "wkid": 102100
  }
 },
 "bandCount": 1,
 "rasterFunctionInfos": [
  {
   "help": "",
   "name": "None",
   "description": ""
  }
 ],
 "supportsStatistics": false,
 "sortableFields": "",
 "minValues": [
  794
 ],
 "allowRasterFunction": true,
 "allowComputeTiePoints": false,
 "serviceDataType": "esriImageServiceDataTypeGeneric",
 "supportsAdvancedQueries": false,
 "currentVersion": 12,
 "sortValue": null,
 "objectIdField": "",
 "maxLOD": 20,
 "blockHeight": 128,
 "initialExtent": {
  "ymin": 4571151.7562921522,
  "xmin": -9419139.1311941743,
  "ymax": 4604680.188182639,
  "xmax": -9392413.7459881697,
  "spatialReference": {
   "latestWkid": 3857,
   "wkid": 102100
  }
 },
 "pixelSizeX": 1.0733086428113892,
 "pixelSizeY": 1.0733086428113892,
 "defaultMosaicMethod": "Center",
 "name": "CNPY_mLexingtonKY/CNPY_mLexingtonKY_Contours_2ft_Raster",
 "allowedMosaicMethods": "",
 "fields": [],
 "allowAnalysis": true,
 "hasRasterAttributeTable": false,
 "useStandardizedQueries": false,
 "description": "",
 "pixelType": "F32",
 "meanPixelSize": 1.0733086428113892,
 "exportTilesAllowed": false,
 "editFieldsInfo": null,
 "rasterTypeInfos": [
  {
   "help": "",
   "name": "Raster Dataset",
   "description": "Supports all ArcGIS Raster Datasets"
  }
 ],
 "defaultResamplingMethod": "Bilinear",
 "itemAccess": false,
 "minScale": 18055.954822,
 "cacheType": "Elevation",
 "serviceProperties": "Center<\/MosaicMethod>First<\/MosaicOperator>true<\/SortAscending><\/LockImageID><\/TileOrderField>0<\/TileOrderBase>0.000000<\/AvgImageSpacingX>0.000000<\/AvgImageSpacingY>0.0<\/ViewPointX>0.0<\/ViewPointY>0.0<\/ViewPointDefShiftX>0.0<\/ViewPointDefShiftY>None<\/CompressionMethod>75<\/CompressionQuality>0.010000<\/CompressionTolerance>Bilinear<\/SamplingMethod><\/ImageServiceProperties><\/ImageServer>",
 "advancedQueryCapabilities": {
  "supportsStatistics": false,
  "supportsSqlExpression": false,
  "supportsOrderBy": false,
  "useStandardizedQueries": false,
  "supportsPagination": false,
  "supportsDistinct": false
 },
 "serviceItemId": "64aafb1a11af4eea96a7d26ec504bc2d",
 "capabilities": "Image,Metadata,Mensuration",
 "maxScale": 564.24858800000004,
 "singleFusedMapCache": true,
 "stdvValues": [
  45.325363219377934
 ],
 "allowedFields": "",
 "minPixelSize": 0.14929107082380821,
 "storageInfo": {
  "storageFormat": "esriMapCacheStorageModeCompactV2",
  "packetSize": 128
 },
 "sortAscending": true,
 "inspectionCapabilities": "",
 "minLOD": 15,
 "maxPixelSize": 4.7773142679493654,
 "uncompressedSize": 3111304800,
 "serviceDescription": "CNPY_mLexingtonKY/CNPY_mLexingtonKY_Contours_2ft_Raster",
 "allowCopy": true,
 "copyrightText": "",
 "mensurationCapabilities": "Basic",
 "ownershipBasedAccessControlForRasters": null
}
